BEGIN:VCALENDAR
VERSION:2.0
PRODID:-//wp-events-plugin.com//6.6.1//EN
BEGIN:VEVENT
UID:1@fawezi.org
DTSTART;TZID=Africa/Harare:20220101T090000
DTEND;TZID=Africa/Harare:20220101T160000
DTSTAMP:20241007T135129Z
URL:https://fawezi.org/events/international-day-of-the-girl-child-idgc/
SUMMARY:International Day of the Girl Child (IDGC)
DESCRIPTION:International Day of the Girl Child (IDGC)\nWe joined the rest 
 of the world in commemorating the International Day of the Girl Child (IDG
 C). As FAWEZI we stand accountable for the best interest of the girl child
 \, now and in the future! We believe in their agency\, leadership and pote
 ntial. Stand accountable with us! Happy International Day of the Girl Chil
 d. Image:
ATTACH;FMTTYPE=image/jpeg:https://fawezi.org/wp-content/uploads/2024/10/PH
 OTO-2022-10-18-14-53-22-1080x750-1.jpg
END:VEVENT
BEGIN:VTIMEZONE
TZID:Africa/Harare
X-LIC-LOCATION:Africa/Harare
BEGIN:STANDARD
DTSTART:20210101T090000
TZOFFSETFROM:+0200
TZOFFSETTO:+0200
TZNAME:CAT
END:STANDARD
END:VTIMEZONE
END:VCALENDAR