BEGIN:VCALENDAR
VERSION:2.0
PRODID:-//wp-events-plugin.com//6.6.1//EN
BEGIN:VEVENT
UID:3@fawezi.org
DTSTART;TZID=Africa/Harare:20220803T080000
DTEND;TZID=Africa/Harare:20220803T160000
DTSTAMP:20241007T135350Z
URL:https://fawezi.org/events/international-womens-dagy-iwd-2022/
SUMMARY:International Women’s Dagy (IWD) 2022
DESCRIPTION:\nInternational Women’s Dagy (IWD) 2022\nForum for African Wo
 men Educationalists Zimbabwe Chapter (FAWEZI) joined the world in commemor
 ating International Women’s Dagy (IWD) 2022. The commemorations were hel
 d under the theme “Gender equality today for a sustainable tomorrow.” 
 The theme was anchored on recognizing the contribution of women and girls 
 around the world\, who are leading the charge on climate change adaptation
 \, mitigation\, and response\, to build a more sustainable future for all.
  The theme resonated well with the interventions implemented by FAWEZI and
  its partners in Shamva\, Chitungwiza and Nyanga Districts. Image:\nThe or
 ganisation has taken a giant step in empowering women and girls through To
 wards Resilient Communities with Health\, Equity and Safety for all (TORCH
 ES) project.\n\n
ATTACH;FMTTYPE=image/jpeg:https://fawezi.org/wp-content/uploads/2024/10/PH
 OTO-2022-10-18-16-00-08.jpg
CATEGORIES:Girls
END:VEVENT
BEGIN:VTIMEZONE
TZID:Africa/Harare
X-LIC-LOCATION:Africa/Harare
BEGIN:STANDARD
DTSTART:20210803T080000
TZOFFSETFROM:+0200
TZOFFSETTO:+0200
TZNAME:CAT
END:STANDARD
END:VTIMEZONE
END:VCALENDAR